BEGIN:VCALENDAR
VERSION:2.0
PRODID:-//Local 498- City of Port Coquitlam - ECPv6.5.0//NONSGML v1.0//EN
CALSCALE:GREGORIAN
METHOD:PUBLISH
X-WR-CALNAME:Local 498- City of Port Coquitlam
X-ORIGINAL-URL:https://cupe498.ca
X-WR-CALDESC:Events for Local 498- City of Port Coquitlam
REFRESH-INTERVAL;VALUE=DURATION:PT1H
X-Robots-Tag:noindex
X-PUBLISHED-TTL:PT1H
BEGIN:VTIMEZONE
TZID:America/Vancouver
BEGIN:DAYLIGHT
TZOFFSETFROM:-0800
TZOFFSETTO:-0700
TZNAME:PDT
DTSTART:20220313T100000
END:DAYLIGHT
BEGIN:STANDARD
TZOFFSETFROM:-0700
TZOFFSETTO:-0800
TZNAME:PST
DTSTART:20221106T090000
END:STANDARD
BEGIN:DAYLIGHT
TZOFFSETFROM:-0800
TZOFFSETTO:-0700
TZNAME:PDT
DTSTART:20230312T100000
END:DAYLIGHT
BEGIN:STANDARD
TZOFFSETFROM:-0700
TZOFFSETTO:-0800
TZNAME:PST
DTSTART:20231105T090000
END:STANDARD
BEGIN:DAYLIGHT
TZOFFSETFROM:-0800
TZOFFSETTO:-0700
TZNAME:PDT
DTSTART:20240310T100000
END:DAYLIGHT
BEGIN:STANDARD
TZOFFSETFROM:-0700
TZOFFSETTO:-0800
TZNAME:PST
DTSTART:20241103T090000
END:STANDARD
BEGIN:DAYLIGHT
TZOFFSETFROM:-0800
TZOFFSETTO:-0700
TZNAME:PDT
DTSTART:20250309T100000
END:DAYLIGHT
BEGIN:STANDARD
TZOFFSETFROM:-0700
TZOFFSETTO:-0800
TZNAME:PST
DTSTART:20251102T090000
END:STANDARD
BEGIN:DAYLIGHT
TZOFFSETFROM:-0800
TZOFFSETTO:-0700
TZNAME:PDT
DTSTART:20260308T100000
END:DAYLIGHT
BEGIN:STANDARD
TZOFFSETFROM:-0700
TZOFFSETTO:-0800
TZNAME:PST
DTSTART:20261101T090000
END:STANDARD
END:VTIMEZONE
BEGIN:VEVENT
DTSTART;TZID=America/Vancouver:20260414T164500
DTEND;TZID=America/Vancouver:20260414T174500
DTSTAMP:20260423T005549
CREATED:20260331T210020Z
LAST-MODIFIED:20260412T030357Z
UID:1803-1776185100-1776188700@cupe498.ca
SUMMARY:CUPE 498 - Meeting April 14\, 2026
DESCRIPTION:
URL:https://cupe498.ca/event/cupe-498-meeting-april-14-2026/
CATEGORIES:Unions Meetings
ATTACH;FMTTYPE=image/jpeg:https://cupe498.ca/wp-content/uploads/2026/03/April-General-meeting.jpg
END:VEVENT
BEGIN:VEVENT
DTSTART;TZID=America/Vancouver:20260321T170000
DTEND;TZID=America/Vancouver:20260321T220000
DTSTAMP:20260423T005549
CREATED:20260212T005919Z
LAST-MODIFIED:20260213T022614Z
UID:1762-1774112400-1774130400@cupe498.ca
SUMMARY:CUPE 498 -Vancouver Giants vs Kamloops Blazers
DESCRIPTION: 
URL:https://cupe498.ca/event/cupe-498-vancouver-giants-vs-kamloops-blazers/
LOCATION:Langley Events Centre\, 7888 200 Streety\, Langley\, BC\, V2Y 3J4\, Canada
CATEGORIES:Vancouver Giants
ATTACH;FMTTYPE=image/png:https://cupe498.ca/wp-content/uploads/2026/02/March-21-WHL-Game-Poster-2.pdf.png
END:VEVENT
BEGIN:VEVENT
DTSTART;TZID=America/Vancouver:20260310T044500
DTEND;TZID=America/Vancouver:20260310T174500
DTSTAMP:20260423T005549
CREATED:20260213T015153Z
LAST-MODIFIED:20260213T022338Z
UID:1791-1773117900-1773164700@cupe498.ca
SUMMARY:CUPE 498 - Meeting March 10\, 2026
DESCRIPTION:
URL:https://cupe498.ca/event/cupe-498-meeting-march-10-2026/
CATEGORIES:Unions Meetings,Vote
ATTACH;FMTTYPE=image/png:https://cupe498.ca/wp-content/uploads/2026/02/Untitled-design-3.png
END:VEVENT
BEGIN:VEVENT
DTSTART;TZID=America/Vancouver:20260212T164500
DTEND;TZID=America/Vancouver:20260212T174500
DTSTAMP:20260423T005549
CREATED:20260131T215027Z
LAST-MODIFIED:20260131T215027Z
UID:1757-1770914700-1770918300@cupe498.ca
SUMMARY:General Union Meeting - Feb 12\, 2026
DESCRIPTION:This meeting has been rescheduled from Tuesday Feb 10th\,2026  to Thursday\, February 12\, 2026.\nLinks to this meeting are sent via email. If you’re not on the union mailing list\, please email Emily @ cupe498secretary@gmail.com \n 
URL:https://cupe498.ca/event/general-union-meeting-feb-12-2026/
CATEGORIES:Unions Meetings
ATTACH;FMTTYPE=image/png:https://cupe498.ca/wp-content/uploads/2026/01/Screenshot-2026-01-29-at-8.46.32-PM-1.png
END:VEVENT
BEGIN:VEVENT
DTSTART;TZID=America/Vancouver:20260122T160000
DTEND;TZID=America/Vancouver:20260122T190000
DTSTAMP:20260423T005549
CREATED:20260120T025107Z
LAST-MODIFIED:20260120T025136Z
UID:1750-1769097600-1769108400@cupe498.ca
SUMMARY:Town Hall Bargaining Meeting
DESCRIPTION:
URL:https://cupe498.ca/event/town-hall-bargaining-meeting/
LOCATION:Kinsmen Club\, 2175 Coquitlam\, Port Coquitlam\, BC\, V3B 7H3\, Canada
CATEGORIES:Unions Meetings
ATTACH;FMTTYPE=image/png:https://cupe498.ca/wp-content/uploads/2026/01/image.png
END:VEVENT
BEGIN:VEVENT
DTSTART;TZID=America/Vancouver:20251211T043000
DTEND;TZID=America/Vancouver:20251211T190000
DTSTAMP:20260423T005549
CREATED:20251211T003620Z
LAST-MODIFIED:20251211T003620Z
UID:1746-1765427400-1765479600@cupe498.ca
SUMMARY:CUPE 498 Holiday Party
DESCRIPTION:CUPE 498 Holiday Party
URL:https://cupe498.ca/event/cupe-498-holiday-party/
CATEGORIES:Christmas
END:VEVENT
BEGIN:VEVENT
DTSTART;TZID=America/Vancouver:20251209T164000
DTEND;TZID=America/Vancouver:20251209T174000
DTSTAMP:20260423T005549
CREATED:20240530T052151Z
LAST-MODIFIED:20240530T052151Z
UID:1573-1765298400-1765302000@cupe498.ca
SUMMARY:Union Meeting December
DESCRIPTION:Meeting will be held via zoom\, contact the cupe498secretary@gmail.com to get your name added to the invite list for meeting
URL:https://cupe498.ca/event/union-meeting-december-3/
CATEGORIES:Unions Meetings
END:VEVENT
BEGIN:VEVENT
DTSTART;TZID=America/Vancouver:20251014T164000
DTEND;TZID=America/Vancouver:20251014T175000
DTSTAMP:20260423T005549
CREATED:20240530T052114Z
LAST-MODIFIED:20240530T052114Z
UID:1571-1760460000-1760464200@cupe498.ca
SUMMARY:Union Meeting November
DESCRIPTION:Meeting will be held via zoom\, contact the cupe498secretary@gmail.com to get your name added to the invite list for meeting
URL:https://cupe498.ca/event/union-meeting-november-3/
CATEGORIES:Unions Meetings
END:VEVENT
BEGIN:VEVENT
DTSTART;TZID=America/Vancouver:20251014T164000
DTEND;TZID=America/Vancouver:20251014T175000
DTSTAMP:20260423T005549
CREATED:20240530T051958Z
LAST-MODIFIED:20240530T051958Z
UID:1569-1760460000-1760464200@cupe498.ca
SUMMARY:Union Meeting October
DESCRIPTION:Meeting will be held via zoom\, contact the cupe498secretary@gmail.com to get your name added to the invite list for meeting
URL:https://cupe498.ca/event/union-meeting-october-3/
CATEGORIES:Unions Meetings
END:VEVENT
BEGIN:VEVENT
DTSTART;TZID=America/Vancouver:20250909T164000
DTEND;TZID=America/Vancouver:20250909T174000
DTSTAMP:20260423T005549
CREATED:20240530T051916Z
LAST-MODIFIED:20240530T051916Z
UID:1567-1757436000-1757439600@cupe498.ca
SUMMARY:Union Meeting September
DESCRIPTION:Meeting will be held via zoom\, contact the cupe498secretary@gmail.com to get your name added to the invite list for meeting
URL:https://cupe498.ca/event/union-meeting-september-3/
CATEGORIES:Unions Meetings
END:VEVENT
BEGIN:VEVENT
DTSTART;TZID=America/Vancouver:20250812T164000
DTEND;TZID=America/Vancouver:20250812T175000
DTSTAMP:20260423T005549
CREATED:20240530T051839Z
LAST-MODIFIED:20240530T051839Z
UID:1565-1755016800-1755021000@cupe498.ca
SUMMARY:Union Meeting August
DESCRIPTION:Meeting will be held via zoom\, contact the cupe498secretary@gmail.com to get your name added to the invite list for meeting
URL:https://cupe498.ca/event/union-meeting-august-3/
CATEGORIES:Unions Meetings
END:VEVENT
BEGIN:VEVENT
DTSTART;TZID=America/Vancouver:20250708T164000
DTEND;TZID=America/Vancouver:20250708T175000
DTSTAMP:20260423T005549
CREATED:20240530T051801Z
LAST-MODIFIED:20240530T051801Z
UID:1563-1751992800-1751997000@cupe498.ca
SUMMARY:Union Meeting July
DESCRIPTION:Meeting will be held via zoom\, contact the cupe498secretary@gmail.com to get your name added to the invite list for meeting
URL:https://cupe498.ca/event/union-meeting-july-3/
CATEGORIES:Unions Meetings
END:VEVENT
BEGIN:VEVENT
DTSTART;TZID=America/Vancouver:20250704T163000
DTEND;TZID=America/Vancouver:20250704T193000
DTSTAMP:20260423T005549
CREATED:20250617T001001Z
LAST-MODIFIED:20250617T004030Z
UID:1733-1751646600-1751657400@cupe498.ca
SUMMARY:CUPE Summer Event July 4th\, 2025
DESCRIPTION:2025 CUPE 498 Summer Event from 4:30-7:30pm At McLean Park Diamond #1 \nCome join us for our lawn games competition. Prizes to be won! \nFood and Snacks provided. \nPlease RSVP no later than Monday June 30th
URL:https://cupe498.ca/event/cupe-summer-event-july-4th-2025/
LOCATION:McLean Park\, 3155 Wellington St\, Port Coquitlam\, BC\, V3B 3X4\, Canada
CATEGORIES:Summer Event
ATTACH;FMTTYPE=image/jpeg:https://cupe498.ca/wp-content/uploads/2025/06/Cupe-498-Summer-Event.jpg
END:VEVENT
BEGIN:VEVENT
DTSTART;TZID=America/Vancouver:20250610T164000
DTEND;TZID=America/Vancouver:20250610T174000
DTSTAMP:20260423T005549
CREATED:20240530T051722Z
LAST-MODIFIED:20240530T051722Z
UID:1561-1749573600-1749577200@cupe498.ca
SUMMARY:Union Meeting June
DESCRIPTION:Meeting will be held via zoom\, contact the cupe498secretary@gmail.com to get your name added to the invite list for meeting
URL:https://cupe498.ca/event/union-meeting-june-3/
CATEGORIES:Unions Meetings
END:VEVENT
BEGIN:VEVENT
DTSTART;TZID=America/Vancouver:20250513T164000
DTEND;TZID=America/Vancouver:20250513T174000
DTSTAMP:20260423T005549
CREATED:20240530T051642Z
LAST-MODIFIED:20240530T051642Z
UID:1559-1747154400-1747158000@cupe498.ca
SUMMARY:Union Meeting May
DESCRIPTION:Meeting will be held via zoom\, contact the cupe498secretary@gmail.com to get your name added to the invite list for meeting
URL:https://cupe498.ca/event/union-meeting-may-2/
CATEGORIES:Unions Meetings
END:VEVENT
BEGIN:VEVENT
DTSTART;TZID=America/Vancouver:20250408T164000
DTEND;TZID=America/Vancouver:20250408T174000
DTSTAMP:20260423T005549
CREATED:20240530T051609Z
LAST-MODIFIED:20240530T051609Z
UID:1557-1744130400-1744134000@cupe498.ca
SUMMARY:Union Meeting April
DESCRIPTION:Meeting will be held via zoom\, contact the cupe498secretary@gmail.com to get your name added to the invite list for meeting
URL:https://cupe498.ca/event/union-meeting-april/
CATEGORIES:Unions Meetings
END:VEVENT
BEGIN:VEVENT
DTSTART;TZID=America/Vancouver:20250311T164000
DTEND;TZID=America/Vancouver:20250311T175000
DTSTAMP:20260423T005549
CREATED:20240530T051532Z
LAST-MODIFIED:20240530T051532Z
UID:1555-1741711200-1741715400@cupe498.ca
SUMMARY:Union Meeting March
DESCRIPTION:Meeting will be held via zoom\, contact the cupe498secretary@gmail.com to get your name added to the invite list for meeting
URL:https://cupe498.ca/event/union-meeting-march/
CATEGORIES:Unions Meetings
END:VEVENT
BEGIN:VEVENT
DTSTART;TZID=America/Vancouver:20250211T164000
DTEND;TZID=America/Vancouver:20250211T175000
DTSTAMP:20260423T005549
CREATED:20240530T051446Z
LAST-MODIFIED:20240530T051446Z
UID:1553-1739292000-1739296200@cupe498.ca
SUMMARY:Union Meeting February
DESCRIPTION:Meeting will be held via zoom\, contact the cupe498secretary@gmail.com to get your name added to the invite list for meeting
URL:https://cupe498.ca/event/union-meeting-february/
CATEGORIES:Unions Meetings
END:VEVENT
BEGIN:VEVENT
DTSTART;TZID=America/Vancouver:20250107T164000
DTEND;TZID=America/Vancouver:20250107T175000
DTSTAMP:20260423T005549
CREATED:20240530T051407Z
LAST-MODIFIED:20240530T051407Z
UID:1551-1736268000-1736272200@cupe498.ca
SUMMARY:Union Meeting January
DESCRIPTION:Meeting will be held via zoom\, contact the cupe498secretary@gmail.com to get your name added to the invite list for meeting
URL:https://cupe498.ca/event/union-meeting-january/
CATEGORIES:Unions Meetings
END:VEVENT
BEGIN:VEVENT
DTSTART;TZID=America/Vancouver:20241218T170000
DTEND;TZID=America/Vancouver:20241218T200000
DTSTAMP:20260423T005549
CREATED:20240619T041055Z
LAST-MODIFIED:20240619T041637Z
UID:1643-1734541200-1734552000@cupe498.ca
SUMMARY:CUPE 498 Christmas Party
DESCRIPTION:Mabbett Hall in the Port Coquitlam Community Centre \n**More information to come**
URL:https://cupe498.ca/event/cupe-498-christmas-party/
LOCATION:Port Coquiltam Comminity Centre\, 2150 Wilson Ave\, Port Coquitlam\, BC\, Canada
CATEGORIES:Christmas
ATTACH;FMTTYPE=image/jpeg:https://cupe498.ca/wp-content/uploads/2024/06/Christmas-2024-Filler.jpg
END:VEVENT
BEGIN:VEVENT
DTSTART;TZID=America/Vancouver:20241210T164000
DTEND;TZID=America/Vancouver:20241210T175000
DTSTAMP:20260423T005549
CREATED:20240530T051327Z
LAST-MODIFIED:20240530T051327Z
UID:1549-1733848800-1733853000@cupe498.ca
SUMMARY:Union Meeting December
DESCRIPTION:Meeting will be held via zoom\, contact the cupe498secretary@gmail.com to get your name added to the invite list for meeting
URL:https://cupe498.ca/event/union-meeting-december-2/
CATEGORIES:Unions Meetings
END:VEVENT
BEGIN:VEVENT
DTSTART;TZID=America/Vancouver:20241112T164000
DTEND;TZID=America/Vancouver:20241112T174000
DTSTAMP:20260423T005549
CREATED:20240530T051050Z
LAST-MODIFIED:20240530T051255Z
UID:1547-1731429600-1731433200@cupe498.ca
SUMMARY:Union Meeting November
DESCRIPTION:Meeting will be held via zoom\, contact the cupe498secretary@gmail.com to get your name added to the invite list for meeting
URL:https://cupe498.ca/event/union-meeting-november-2/
CATEGORIES:Unions Meetings
END:VEVENT
BEGIN:VEVENT
DTSTART;TZID=America/Vancouver:20241008T164000
DTEND;TZID=America/Vancouver:20241008T175000
DTSTAMP:20260423T005549
CREATED:20240530T051017Z
LAST-MODIFIED:20240530T051017Z
UID:1545-1728405600-1728409800@cupe498.ca
SUMMARY:Union Meeting October
DESCRIPTION:Meeting will be held via zoom\, contact the cupe498secretary@gmail.com to get your name added to the invite list for meeting
URL:https://cupe498.ca/event/union-meeting-october-2/
CATEGORIES:Unions Meetings
END:VEVENT
BEGIN:VEVENT
DTSTART;TZID=America/Vancouver:20240910T164000
DTEND;TZID=America/Vancouver:20240910T175000
DTSTAMP:20260423T005549
CREATED:20240530T050940Z
LAST-MODIFIED:20240530T050940Z
UID:1543-1725986400-1725990600@cupe498.ca
SUMMARY:Union Meeting September
DESCRIPTION:Meeting will be held via zoom\, contact the cupe498secretary@gmail.com to get your name added to the invite list for meeting
URL:https://cupe498.ca/event/union-meeting-september-2/
CATEGORIES:Unions Meetings
END:VEVENT
BEGIN:VEVENT
DTSTART;TZID=America/Vancouver:20240813T164000
DTEND;TZID=America/Vancouver:20240813T174000
DTSTAMP:20260423T005549
CREATED:20240530T050904Z
LAST-MODIFIED:20240530T050904Z
UID:1540-1723567200-1723570800@cupe498.ca
SUMMARY:Union Meeting August
DESCRIPTION:Meeting will be held via zoom\, contact the cupe498secretary@gmail.com to get your name added to the invite list for meeting
URL:https://cupe498.ca/event/union-meeting-august-2/
CATEGORIES:Unions Meetings
END:VEVENT
BEGIN:VEVENT
DTSTART;TZID=America/Vancouver:20240719T160000
DTEND;TZID=America/Vancouver:20240719T193000
DTSTAMP:20260423T005549
CREATED:20240618T052237Z
LAST-MODIFIED:20240619T035037Z
UID:1635-1721404800-1721417400@cupe498.ca
SUMMARY:CUPE498 2024 KICKBALL Tournament
DESCRIPTION:Members only! \nBBQ beef brisket & pulled pork sandwiches (vegetarian options available) \nRegistration must take place no later than June 21\, 2024. If you do not have the link please email cupe498president@gmail.com \n 
URL:https://cupe498.ca/event/cupe498-2024-kickball-tournament/
LOCATION:McLean Park\, 3155 Wellington St\, Port Coquitlam\, BC\, V3B 3X4\, Canada
ATTACH;FMTTYPE=image/jpeg:https://cupe498.ca/wp-content/uploads/2024/06/2024-Kickball-Poster.jpg
END:VEVENT
BEGIN:VEVENT
DTSTART;TZID=America/Vancouver:20240709T164000
DTEND;TZID=America/Vancouver:20240709T175000
DTSTAMP:20260423T005549
CREATED:20240530T050801Z
LAST-MODIFIED:20240530T050801Z
UID:1538-1720543200-1720547400@cupe498.ca
SUMMARY:Union Meeting July
DESCRIPTION:Meeting will be held via zoom\, contact the cupe498secretary@gmail.com to get your name added to the invite list for meeting
URL:https://cupe498.ca/event/union-meeting-july-2/
CATEGORIES:Unions Meetings
END:VEVENT
BEGIN:VEVENT
DTSTART;TZID=America/Vancouver:20240611T164000
DTEND;TZID=America/Vancouver:20240611T174000
DTSTAMP:20260423T005549
CREATED:20240530T050421Z
LAST-MODIFIED:20240530T050727Z
UID:1533-1718124000-1718127600@cupe498.ca
SUMMARY:Union Meeting June
DESCRIPTION:Meeting will be held via zoom\, contact the cupe498secretary@gmail.com to get your name added to the invite list for meeting
URL:https://cupe498.ca/event/union-meeting-june-2/
CATEGORIES:Unions Meetings
END:VEVENT
BEGIN:VEVENT
DTSTART;TZID=America/Vancouver:20221213T164000
DTEND;TZID=America/Vancouver:20221213T175000
DTSTAMP:20260423T005549
CREATED:20220322T035950Z
LAST-MODIFIED:20220322T035950Z
UID:1446-1670949600-1670953800@cupe498.ca
SUMMARY:Union Meeting December
DESCRIPTION:virtual meeting via MS Teams. Send an email to the secretary to be sent the invite
URL:https://cupe498.ca/event/union-meeting-december/
CATEGORIES:Unions Meetings
END:VEVENT
BEGIN:VEVENT
DTSTART;TZID=America/Vancouver:20221108T164000
DTEND;TZID=America/Vancouver:20221108T174000
DTSTAMP:20260423T005549
CREATED:20220322T035913Z
LAST-MODIFIED:20220322T035913Z
UID:1444-1667925600-1667929200@cupe498.ca
SUMMARY:Union Meeting November
DESCRIPTION:virtual meeting via MS Teams. Send an email to the secretary to be sent the invite
URL:https://cupe498.ca/event/union-meeting-november/
CATEGORIES:Unions Meetings
END:VEVENT
END:VCALENDAR